BEGIN:VCALENDAR
VERSION:2.0
PRODID:-//jEvents 2.0 for Joomla//EN
CALSCALE:GREGORIAN
METHOD:PUBLISH
BEGIN:VEVENT
UID:10cca5afaa88b540f1331bd163d96c49
CATEGORIES:Lecture / Reading / Talk
CREATED:20240905T165930
SUMMARY:Awareness session on Breast and Cervical cancer by Ms. Laleh Busheri
LOCATION:CHK001
DESCRIPTION:The FLAME Community Service Cub &amp; Women’s Cell invite you all to attend
  an awareness session on Breast and Cervical Cancer. The session will be co
 nducted by Ms. Laleh Busheri, CEO of Prashanti Cancer Care Mission (PCCM) a
 nd an expert in the field of Breast and Cervical Cancer. \n
Ms. Laleh Bushe
 ri is the CEO of Prashanti Cancer Care Mission, a non-profit NGO working in
  Pune since 1996.  In 2009 she established Orchid’s Breast Health Center in
  Pune, a state-of-the-art facility that has gained a reputation as being a 
 one-of-a-kind integrated Center of Excellence for Breast Cancer in India, f
 or its unmatched medical expertise, sophisticated infrastructure, and treat
 ment protocols. Of the approximately 35,000+ women visiting the center ever
 y year, close to 2500 patients undergo Breast Cancer surgery and subsequent
  treatment. Orchid's Center has unmatched technological capabilities for fa
 ster and effective detection of Breast Cancer. \n
Ms. Laleh is also a found
 er member of the first Pink Ribbon Club in Pune, Pune’s first support group
  for breast cancer patients and caregivers. She has also set up Pune’s firs
 t breast tissue Biobank. She also has over 35 International and more than 1
 00 National research publications under her name.  \n
We hope to see you th
 ere!\n
X-ALT-DESC;FMTTYPE=text/html:<p><strong>The FLAME Community Service Cub &amp; Women’s Cell</strong> invi
 te you all to attend an awareness session on Breast and Cervical Cancer. Th
 e session will be conducted by <strong>Ms. Laleh Busheri, CEO of Prashanti 
 Cancer Care Mission (PCCM)</strong> and an expert in the field of Breast an
 d Cervical Cancer. </p><p>Ms. Laleh Busheri is the CEO of Prashanti Cancer 
 Care Mission, a non-profit NGO working in Pune since 1996.  In 2009 she est
 ablished Orchid’s Breast Health Center in Pune, a state-of-the-art facility
  that has gained a reputation as being a one-of-a-kind integrated Center of
  Excellence for Breast Cancer in India, for its unmatched medical expertise
 , sophisticated infrastructure, and treatment protocols. Of the approximate
 ly 35,000+ women visiting the center every year, close to 2500 patients und
 ergo Breast Cancer surgery and subsequent treatment. Orchid's Center has un
 matched technological capabilities for faster and effective detection of Br
 east Cancer. </p><p>Ms. Laleh is also a founder member of the first Pink Ri
 bbon Club in Pune, Pune’s first support group for breast cancer patients an
 d caregivers. She has also set up Pune’s first breast tissue Biobank. She a
 lso has over 35 International and more than 100 National research publicati
 ons under her name.  </p><p>We hope to see you there!</p>
DTSTAMP:20260420T035716
DTSTART;TZID=Asia/Kolkata:20240906T150000
DTEND;TZID=Asia/Kolkata:20240906T160000
SEQUENCE:0
TRANSP:OPAQUE
END:VEVENT
END:VCALENDAR