BEGIN:VCALENDAR
VERSION:2.0
PRODID:-//jEvents 2.0 for Joomla//EN
CALSCALE:GREGORIAN
METHOD:PUBLISH
BEGIN:VEVENT
UID:a5e5bf8eac2279756b299de05766054d
CATEGORIES:Seminars & Workshops
CREATED:20240802T142545
SUMMARY:OxfordMUN India 2024 hosted by FLAME University
DESCRIPTION:We are excited to announce that FLAME University, in collaboration with MU2
 0 School of Opportunity, will be hosting OxfordMUN India on our campus from
  9th August to 11th August, 2024.\n
OxfordMUN India 2024 is marking the 22n
 d conference in the prestigious history of OxfordMUN and the very first to 
 be held in India. Over the years, OxfordMUN has engaged more than 7,000 stu
 dents from over 50 countries, holding 21 successful conferences worldwide. 
 This year, the aim is to make a significant impact by bringing together the
  brightest young leaders for a transformative experience.\n
Over 500 studen
 ts from Grades 9-12, representing more than 60 premier schools across the c
 ountry-including The Doon School, Mayo College, The Scindia School, Welham 
 Girls' School, and Mahindra United World College, will be a part of this ev
 ent. The students will be mentored by Oxford University's esteemed PhD scho
 lars. This gathering will be a vibrant cultural amalgamation, with particip
 ants from Kashmir, Rajasthan, Maharashtra, West Bengal, Karnataka, Orissa, 
 Madhya Pradesh, Uttarakhand, Himachal Pradesh, Punjab, Tamil Nadu, and many
  other regions. \n
X-ALT-DESC;FMTTYPE=text/html:<p>We are excited to announce that FLAME University, in collaboration with 
 MU20 School of Opportunity, will be hosting OxfordMUN India on our campus f
 rom 9th August to 11th August, 2024.</p><p>OxfordMUN India 2024 is marking 
 the 22nd conference in the prestigious history of OxfordMUN and the very fi
 rst to be held in India. Over the years, OxfordMUN has engaged more than 7,
 000 students from over 50 countries, holding 21 successful conferences worl
 dwide. This year, the aim is to make a significant impact by bringing toget
 her the brightest young leaders for a transformative experience.</p><p>Over
  500 students from Grades 9-12, representing more than 60 premier schools a
 cross the country-including The Doon School, Mayo College, The Scindia Scho
 ol, Welham Girls' School, and Mahindra United World College, will be a part
  of this event. The students will be mentored by Oxford University's esteem
 ed PhD scholars. This gathering will be a vibrant cultural amalgamation, wi
 th participants from Kashmir, Rajasthan, Maharashtra, West Bengal, Karnatak
 a, Orissa, Madhya Pradesh, Uttarakhand, Himachal Pradesh, Punjab, Tamil Nad
 u, and many other regions. </p>
DTSTAMP:20260420T030151
DTSTART;TZID=Asia/Kolkata:20240809T080000
DTEND;TZID=Asia/Kolkata:20240811T170000
SEQUENCE:0
TRANSP:OPAQUE
END:VEVENT
END:VCALENDAR