BEGIN:VCALENDAR
VERSION:2.0
PRODID:-//jEvents 2.0 for Joomla//EN
CALSCALE:GREGORIAN
METHOD:PUBLISH
BEGIN:VEVENT
UID:c2aaa9798a8ad433d7a66dcfc05920eb
CATEGORIES:Sports
CREATED:20230124T153655
SUMMARY:FLAME Kurukshetra 2023
DESCRIPTION:FLAME University’s inter-college student-run fest, Kurukshetra, as the name
  suggests, is the battlefield where students from various colleges across I
 ndia compete in sports, cultural, and management events. True to its founda
 tion in liberal education, the fest is an all-around experience and caters 
 to every individual’s interest and skill set. We truly believe that student
 s take home more than just memories, they take home skills, friendships, a 
 sports person’s spirit, and the Kurukshetra experience that is far more val
 uable than trophies and medals. Through the fest, we become part of this bi
 g family that truly aspires to help one another grow.\n
For details, please
  visit: https://www.kurukshetra.flame.edu.in.\n
X-ALT-DESC;FMTTYPE=text/html:<p>FLAME University’s inter-college student-run fest, Kurukshetra, as the n
 ame suggests, is the battlefield where students from various colleges acros
 s India compete in sports, cultural, and management events. True to its fou
 ndation in liberal education, the fest is an all-around experience and cate
 rs to every individual’s interest and skill set. We truly believe that stud
 ents take home more than just memories, they take home skills, friendships,
  a sports person’s spirit, and the Kurukshetra experience that is far more 
 valuable than trophies and medals. Through the fest, we become part of this
  big family that truly aspires to help one another grow.</p><p>For details,
  please visit: <a href="https://www.kurukshetra.flame.edu.in" target="_blan
 k" rel="noopener">https://www.kurukshetra.flame.edu.in</a>.</p>
DTSTAMP:20260421T073055
DTSTART;TZID=Asia/Kolkata:20230125T080000
DTEND;TZID=Asia/Kolkata:20230129T170000
SEQUENCE:0
TRANSP:OPAQUE
END:VEVENT
END:VCALENDAR