BEGIN:VCALENDAR
VERSION:2.0
PRODID:-//jEvents 2.0 for Joomla//EN
CALSCALE:GREGORIAN
METHOD:PUBLISH
BEGIN:VEVENT
UID:cb59b31d203d582af70761866dc22c94
CATEGORIES:Executive Education
CREATED:20220320T100352
SUMMARY:FLAME Investment Lab - Emerging Sectors and Investing Implications
DESCRIPTION:
FLAME was founded with the concept of liberal education as its cornerstone
 . FLAME celebrates ideas, cherishes diversity, and strives to deliver an ac
 ademic experience that fosters intellectual curiosity, a critical thought p
 rocess, self-reflection, leadership and teamwork skills, a sense of commitm
 ent and professionalism and a heightened sensitivity to one’s sociocultural
  environment. FLAME aims to provide an interdisciplinary platform of educat
 ion by propagating different models and paradigms through, but not limited 
 to, history, philosophy, political sciences, psychology, business, economic
 s, mathematics and finance.\n
As part of its endeavor to constantly redefin
 e education, FLAME inducted the FLAME Investment Lab (FIL), an initiative t
 hat strives to deliver the concepts and decipher the art of value investing
  to interested students. FIL believes in the dictum “invest in yourself”. I
 t provides tools for self-learning and acquiring knowledge, constantly stri
 ving for intellectual stimulation and asking questions. FIL strives to wide
 n your horizons, aiding you to connect the dots within seemingly disparate 
 information. FIL truly believes that the best investment is investing in yo
 urself. As Socrates has said, “I cannot teach anybody anything. I can only 
 make them think.”\n
After hosting multiple programs and FIL alumni meets th
 at covered topics like valuation, accounting shenanigans, investment checkl
 ists, mental heuristics and negotiation amongst others, FIL is planning the
 , ‘FLAME Investment Lab - Emerging Sectors and Investing Implications’ prog
 ram from June 25 - June 26, 2022.\n
For details, please visit: https://www.
 flame.edu.in/academics/flame-investment-lab/other-programs/emerging-sectors
 -and-investing-implications/june-2022 (academics/flame-investment-lab/other
 -programs/emerging-sectors-and-investing-implications/june-2022).\n
\n

X-ALT-DESC;FMTTYPE=text/html:<div class="col-md-12 left-border-title"><p>FLAME was founded with the conc
 ept of liberal education as its cornerstone. FLAME celebrates ideas, cheris
 hes diversity, and strives to deliver an academic experience that fosters i
 ntellectual curiosity, a critical thought process, self-reflection, leaders
 hip and teamwork skills, a sense of commitment and professionalism and a he
 ightened sensitivity to one’s sociocultural environment. FLAME aims to prov
 ide an interdisciplinary platform of education by propagating different mod
 els and paradigms through, but not limited to, history, philosophy, politic
 al sciences, psychology, business, economics, mathematics and finance.</p><
 p>As part of its endeavor to constantly redefine education, FLAME inducted 
 the FLAME Investment Lab (FIL), an initiative that strives to deliver the c
 oncepts and decipher the art of value investing to interested students. FIL
  believes in the dictum “invest in yourself”. It provides tools for self-le
 arning and acquiring knowledge, constantly striving for intellectual stimul
 ation and asking questions. FIL strives to widen your horizons, aiding you 
 to connect the dots within seemingly disparate information. FIL truly belie
 ves that the best investment is investing in yourself. As Socrates has said
 , “I cannot teach anybody anything. I can only make them think.”</p><p>Afte
 r hosting multiple programs and FIL alumni meets that covered topics like v
 aluation, accounting shenanigans, investment checklists, mental heuristics 
 and negotiation amongst others, FIL is planning the, ‘<strong>FLAME Investm
 ent Lab - Emerging Sectors and Investing Implications</strong>’ program fro
 m June 25 - June 26, 2022.</p><p>For details, please visit: <a href="academ
 ics/flame-investment-lab/other-programs/emerging-sectors-and-investing-impl
 ications/june-2022">https://www.flame.edu.in/academics/flame-investment-lab
 /other-programs/emerging-sectors-and-investing-implications/june-2022</a>.<
 /p><p></p></div>
DTSTAMP:20260424T141328
DTSTART;TZID=Asia/Kolkata:20220625T080000
DTEND;TZID=Asia/Kolkata:20220626T170000
SEQUENCE:0
TRANSP:OPAQUE
END:VEVENT
END:VCALENDAR