BEGIN:VCALENDAR
VERSION:2.0
PRODID:-//jEvents 2.0 for Joomla//EN
CALSCALE:GREGORIAN
METHOD:PUBLISH
BEGIN:VEVENT
UID:998b5839512a2d8473100030280dd4b7
CATEGORIES:Sports
CREATED:20211120T121112
SUMMARY:FLAME University Corporate Cricket League
DESCRIPTION:FLAME University Corporate Cricket League 2015 - T20 TOURNAMENT19th DECEMBE
 R, 2015 - 07th FEBRUARY, 2016\n\nVENUE\nFLAME University Cricket Ground\n\n
 \nMAXIMUM ENTRIES\n16\n\n\nENTRY FEE\nRs. 22,000/- + applicable taxes\n\n\n
 PRIZES\nWinners: Rs. 41,000/- \nRunners-up: Rs.25,000/-\nBest batsman: Rs. 
 2,500/-\nBest bowler: Rs 2,500/-\nMan of the series: Rs. 5,000/-\n\n\nLAST 
 DATE FOR REGISTRATIONS\n30 November, 2015\n\n\nRSVP\nManu Nair: 9552560683\
 nRishabh Kothari: 8600816602\n
X-ALT-DESC;FMTTYPE=text/html:FLAME University Corporate Cricket League 2015 - T20 TOURNAMENT19th DECEMBE
 R, 2015 - 07th FEBRUARY, 2016<br/><br/>VENUE<br/>FLAME University Cricket G
 round<br/><br/><br/>MAXIMUM ENTRIES<br/>16<br/><br/><br/>ENTRY FEE<br/>Rs. 
 22,000/- + applicable taxes<br/><br/><br/>PRIZES<br/>Winners: Rs. 41,000/- 
 <br/>Runners-up: Rs.25,000/-<br/>Best batsman: Rs. 2,500/-<br/>Best bowler:
  Rs 2,500/-<br/>Man of the series: Rs. 5,000/-<br/><br/><br/>LAST DATE FOR 
 REGISTRATIONS<br/>30 November, 2015<br/><br/><br/>RSVP<br/>Manu Nair: 95525
 60683<br/>Rishabh Kothari: 8600816602<br/>
DTSTAMP:20260424T021910
DTSTART;TZID=Asia/Kolkata:20151226T023000
DTEND;TZID=Asia/Kolkata:20151227T113000
SEQUENCE:0
TRANSP:OPAQUE
END:VEVENT
END:VCALENDAR