BEGIN:VCALENDAR
VERSION:2.0
PRODID:-//jEvents 2.0 for Joomla//EN
CALSCALE:GREGORIAN
METHOD:PUBLISH
BEGIN:VEVENT
UID:ba785e94aa9d5442dde0dd2c8cb468e4
CATEGORIES:Lecture / Reading / Talk
CREATED:20211120T121118
SUMMARY:Impact of Notification and Denotification of Proposed Omkareshwar National Park on Resource and livelihood security of local communities - A talk by Dr. Abhineety Goel
DESCRIPTION:Abstract: Creation of the development projects and subsequent conservation 
 enclosures is a customary practice around the world. While they advance eco
 nomic development in the region by providing various benefits including emp
 loyment and infrastructure development, development projects are also respo
 nsible for displacing or restricting resource access to the local communiti
 es. The creation of compensatory conservation enclosure, as a part of ‘mark
 et based’ conservation strategy, thus becomes a site for the struggle of ac
 cess and mobilization of forest resources. One such example is the proposed
  Omkareshwar National Park Complex in Madhya Pradesh. Situated in the proxi
 mal distance of notorious Indira Sagar and Omkareshwar Dams, this region ha
 s a volatile history.\nThis talk will examine the economic impact of notifi
 cation and subsequent denotification processes of the park. It will illustr
 ate how the locals have to negotiate and renegotiate their access to resour
 ces by shifting their economic practices. Specifically, the talk will discu
 ss how altered economic processes and patterns in the proposed ONPC has put
  a stress on the local livelihoods dependent on forest resources, particula
 rly the tribals. Not only has this marginalized the local tribals socially,
  but is also resulting in increasing labour commodification.\nZoom Meeting 
 Link: https://flameuniversity.zoom.us/j/8685572855\n Meeting ID: 868 557 28
 55\n  Passcode: 78958125\n
X-ALT-DESC;FMTTYPE=text/html:<p><strong>Abstract:</strong> Creation of the development projects and subs
 equent conservation enclosures is a customary practice around the world. Wh
 ile they advance economic development in the region by providing various be
 nefits including employment and infrastructure development, development pro
 jects are also responsible for displacing or restricting resource access to
  the local communities. The creation of compensatory conservation enclosure
 , as a part of ‘market based’ conservation strategy, thus becomes a site fo
 r the struggle of access and mobilization of forest resources. One such exa
 mple is the proposed Omkareshwar National Park Complex in Madhya Pradesh. S
 ituated in the proximal distance of notorious Indira Sagar and Omkareshwar 
 Dams, this region has a volatile history.</p><p>This talk will examine the 
 economic impact of notification and subsequent denotification processes of 
 the park. It will illustrate how the locals have to negotiate and renegotia
 te their access to resources by shifting their economic practices. Specific
 ally, the talk will discuss how altered economic processes and patterns in 
 the proposed ONPC has put a stress on the local livelihoods dependent on fo
 rest resources, particularly the tribals. Not only has this marginalized th
 e local tribals socially, but is also resulting in increasing labour commod
 ification.</p><div><p><strong>Zoom Meeting Link: </strong><a href="https://
 flameuniversity.zoom.us/j/8685572855" target="_blank" rel="noopener norefer
 rer">https://flameuniversity.zoom.us/j/8685572855</a><br /><strong> Meeting
  ID</strong>: 868 557 2855<br /> <strong> Passcode:</strong> 78958125</p></
 div>
DTSTAMP:20260420T095714
DTSTART;TZID=Asia/Kolkata:20210327T110000
DTEND;TZID=Asia/Kolkata:20210327T120000
SEQUENCE:0
TRANSP:OPAQUE
END:VEVENT
END:VCALENDAR