BEGIN:VCALENDAR
VERSION:2.0
PRODID:-//jEvents 2.0 for Joomla//EN
CALSCALE:GREGORIAN
METHOD:PUBLISH
BEGIN:VEVENT
UID:3c6d74c18313f99ad2cd9ce2b81e2c08
CATEGORIES:Student Activities
CREATED:20211120T121112
SUMMARY:Fusion Freak by FLAME Dance Club
LOCATION:Kalidas Amphitheater\, FLAME University Campus
DESCRIPTION:\n\n“Fusion Freak” is finally here! The one night on FLAME University Campu
 s where you can catch Bollywood, Hiphop, Contemporary and Freestyle all in 
 one showcase.\n\nThis Friday, the FLAME community gets to be the captive au
 dience of our college’s passionate dancers. Hosted by the FLAME Dance Club,
  “Fusion Freak” promises to be a fun night of music and dance. We invite yo
 u to join us in making it a night dedicated to the celebration of rhythm an
 d movement.\n
X-ALT-DESC;FMTTYPE=text/html:<br/><br/>“Fusion Freak” is finally here! The one night on FLAME University
  Campus where you can catch Bollywood, Hiphop, Contemporary and Freestyle a
 ll in one showcase.<br/><br/>This Friday, the FLAME community gets to be th
 e captive audience of our college’s passionate dancers. Hosted by the FLAME
  Dance Club, “Fusion Freak” promises to be a fun night of music and dance. 
 We invite you to join us in making it a night dedicated to the celebration 
 of rhythm and movement.<br/>
DTSTAMP:20260424T161154
DTSTART;TZID=Asia/Kolkata:20151030T143000
SEQUENCE:0
TRANSP:OPAQUE
END:VEVENT
END:VCALENDAR