BEGIN:VCALENDAR
VERSION:2.0
PRODID:-//jEvents 2.0 for Joomla//EN
CALSCALE:GREGORIAN
METHOD:PUBLISH
BEGIN:VEVENT
UID:51e45afcbcee999ef54d3b0c332943aa
CATEGORIES:Student Activities
CREATED:20211120T121116
SUMMARY:TEDxFLAMEUniversity 2019
LOCATION:FLAME University Campus
DESCRIPTION:TEDxFLAME University team is excited to announce that we are fully assemble
 d and ready to set the ball rolling. We're celebrating phenomenal ideas and
  the people behind it at TEDx this year and we want you to share this uniqu
 e experience with us.\n\nYou can come be a part of this extraordinary affai
 r by registering on our website:\n\nhttps://www.tedxflameuniversity.com\nYo
 u can also purchase our tickets from outside the mess till the 5th of Decem
 ber (Thursday), from 12pm to 2:30pm. \n\n\n
X-ALT-DESC;FMTTYPE=text/html:<p>TEDxFLAME University team is excited to announce that we are fully assem
 bled and ready to set the ball rolling. We're celebrating phenomenal ideas 
 and the people behind it at TEDx this year and we want you to share this un
 ique experience with us.<br /><br />You can come be a part of this extraord
 inary affair by registering on our website:<br /><br /><a href="https://www
 .tedxflameuniversity.com" target="_blank" rel="noopener noreferrer">https:/
 /www.tedxflameuniversity.com</a></p><p>You can also purchase our tickets fr
 om outside the mess till the 5th of December (Thursday), from 12pm to 2:30p
 m. <br /><br /></p>
DTSTAMP:20260420T210237
DTSTART;TZID=Asia/Kolkata:20191206T180000
DTEND;TZID=Asia/Kolkata:20191206T210000
SEQUENCE:0
TRANSP:OPAQUE
END:VEVENT
END:VCALENDAR