BEGIN:VCALENDAR
VERSION:2.0
PRODID:-//jEvents 2.0 for Joomla//EN
CALSCALE:GREGORIAN
METHOD:PUBLISH
BEGIN:VEVENT
UID:53161756912f20e7e9a2c312c906f944
CATEGORIES:Lecture / Reading / Talk
CREATED:20211120T121115
SUMMARY:FLAME Leadership series - A Talk by Mr. Manpreet Singh Badal, Hon'ble Finance Minister of Punjab
DESCRIPTION:Mr. Manpreet Singh Badal  is the Minister of Finance in the Government of P
 unjab. He also handles the portfolios of Planning, Programme Implementation
  and Governance Reforms. A five time MLA in the Punjab assembly from 1995 t
 o 2012,  he  represents the Bathinda Urban seat in the Assembly. He has als
 o served as  finance minister in the earlier government from 2007-2010.\n\n
 Mr. Manpreet Singh Badal is a law graduate, L.L.B.(Hons) from University of
  London (1987). Earlier he did B.A. (Hons in History) from St. Stephens Col
 lege, Delhi. He has done schooling at The Doon School, Dehradun.\n
X-ALT-DESC;FMTTYPE=text/html:<p>Mr. Manpreet Singh Badal  is the Minister of Finance in the Government o
 f Punjab. He also handles the portfolios of Planning, Programme Implementat
 ion and Governance Reforms. A five time MLA in the Punjab assembly from 199
 5 to 2012,  he  represents the Bathinda Urban seat in the Assembly. He has 
 also served as  finance minister in the earlier government from 2007-2010.<
 br /><br />Mr. Manpreet Singh Badal is a law graduate, L.L.B.(Hons) from Un
 iversity of London (1987). Earlier he did B.A. (Hons in History) from St. S
 tephens College, Delhi. He has done schooling at The Doon School, Dehradun.
 </p>
DTSTAMP:20260425T162420
DTSTART;TZID=Asia/Kolkata:20190309T113000
DTEND;TZID=Asia/Kolkata:20190309T123000
SEQUENCE:0
TRANSP:OPAQUE
END:VEVENT
END:VCALENDAR