BEGIN:VCALENDAR
VERSION:2.0
PRODID:-//jEvents 2.0 for Joomla//EN
CALSCALE:GREGORIAN
METHOD:PUBLISH
BEGIN:VEVENT
UID:657350322fe87e40b08e0c6701180031
CATEGORIES:Lecture / Reading / Talk
CREATED:20211120T121114
SUMMARY:"Transforming Artificial Intelligence into Business Advantage" - A talk by Sharad Gandhi
LOCATION:Chanakya 2 Lecture Theatre
DESCRIPTION:\n\nAbstract\nArtificial Intelligence is the “Next Big Thing.” Artificial I
 ntelligence (AI) is the most profound innovation by humans, with a far deep
 er and wider impact on our lives, than all preceding innovations from steam
  engine of 1712 to the Internet. AI has the potential to transform the very
  role of humans in our society. Its disruptive power is evidenced in a grow
 ing number of cases even today – Apple’s Siri, Amazon Echo, Google Assistan
 t, IBM Watson and Tesla cars. What is AI? What can it do (and not do)? How 
 does it work? Where can it be applied? This presentation is designed to dem
 ystify AI and help your company to harness its unique power to smarten and 
 uplift your business. Using successful business cases the presentation high
 lights how and where AI is being used. It provides a roadmap for companies 
 starting AI projects with approaches for discovering innovation opportuniti
 es that add business and customer value with AI. Finally, it offers a struc
 tured approach with “AI&amp;U Canvas” for developing a successful business 
 model with innovative AI ideas. The use of AI for future competitiveness is
  a must. As a result, it is extremely important for everyone, especially fo
 r business decision makers, to understand the power, significance, and rele
 vance that AI will have not only on our lives but also on business and soci
 ety as a whole. AI is inevitable. \n\nSpeaker Profile\n\n\nSharad is best c
 haracterized as a “big picture” man, possessing a valuable ability to absor
 b complex concepts and express them in an easy to understand form. This ski
 ll serves him very well as a consultant for business and marketing strategy
 . He is an electronics engineer and physicist by education and a marketing 
 strategist by profession. He is often called a technology philosopher and s
 trategist for creating business value with digital technologies.\n\n\nShara
 d is a global citizen, having lived in Europe, USA, and India and worked fo
 r the best of global companies — Intel, IBM, Siemens, and Tata. At Intel, h
 e held senior management positions involving areas of technology applicatio
 ns, business development, marketing and strategy for several vertical indus
 try segments including healthcare, communications, and digital entertainmen
 t. While working at Siemens and IBM, he held several patents in microproces
 sor technology. He is based in Munich.\n\n\nHis passion for technology and 
 its impact on our lives has motivated him to write books to demystify new d
 igital technologies and illustrate their business impact. “AI&amp;U: Transf
 orming Artificial Intelligence into Business” is the latest, published in 2
 017. “Social Resource: Transforming Social Media into Business” was publish
 ed in 2011.\n\n\nIn spite of being passionate about technology, Sharad is a
 ware and concerned about problems that technology creates. However, he beli
 eves that eventually technologies like the Internet, AI, robotics, biotech,
  genetics, new materials, and space will help create innovations and soluti
 ons for many of our current global problems in environment, energy, inequal
 ity, poverty, health, and demography.\n
X-ALT-DESC;FMTTYPE=text/html:<p><br /><br />Abstract<br />Artificial Intelligence is the “Next Big Thing
 .” Artificial Intelligence (AI) is the most profound innovation by humans, 
 with a far deeper and wider impact on our lives, than all preceding innovat
 ions from steam engine of 1712 to the Internet. AI has the potential to tra
 nsform the very role of humans in our society. Its disruptive power is evid
 enced in a growing number of cases even today – Apple’s Siri, Amazon Echo, 
 Google Assistant, IBM Watson and Tesla cars. What is AI? What can it do (an
 d not do)? How does it work? Where can it be applied? This presentation is 
 designed to demystify AI and help your company to harness its unique power 
 to smarten and uplift your business. Using successful business cases the pr
 esentation highlights how and where AI is being used. It provides a roadmap
  for companies starting AI projects with approaches for discovering innovat
 ion opportunities that add business and customer value with AI. Finally, it
  offers a structured approach with “AI&amp;U Canvas” for developing a succe
 ssful business model with innovative AI ideas. The use of AI for future com
 petitiveness is a must. As a result, it is extremely important for everyone
 , especially for business decision makers, to understand the power, signifi
 cance, and relevance that AI will have not only on our lives but also on bu
 siness and society as a whole. AI is inevitable. <br /><br />Speaker Profil
 e<br /><br /><br />Sharad is best characterized as a “big picture” man, pos
 sessing a valuable ability to absorb complex concepts and express them in a
 n easy to understand form. This skill serves him very well as a consultant 
 for business and marketing strategy. He is an electronics engineer and phys
 icist by education and a marketing strategist by profession. He is often ca
 lled a technology philosopher and strategist for creating business value wi
 th digital technologies.<br /><br /><br />Sharad is a global citizen, havin
 g lived in Europe, USA, and India and worked for the best of global compani
 es — Intel, IBM, Siemens, and Tata. At Intel, he held senior management pos
 itions involving areas of technology applications, business development, ma
 rketing and strategy for several vertical industry segments including healt
 hcare, communications, and digital entertainment. While working at Siemens 
 and IBM, he held several patents in microprocessor technology. He is based 
 in Munich.<br /><br /><br />His passion for technology and its impact on ou
 r lives has motivated him to write books to demystify new digital technolog
 ies and illustrate their business impact. “AI&amp;U: Transforming Artificia
 l Intelligence into Business” is the latest, published in 2017. “Social Res
 ource: Transforming Social Media into Business” was published in 2011.<br /
 ><br /><br />In spite of being passionate about technology, Sharad is aware
  and concerned about problems that technology creates. However, he believes
  that eventually technologies like the Internet, AI, robotics, biotech, gen
 etics, new materials, and space will help create innovations and solutions 
 for many of our current global problems in environment, energy, inequality,
  poverty, health, and demography.</p>
DTSTAMP:20260419T132844
DTSTART;TZID=Asia/Kolkata:20171109T060000
SEQUENCE:0
TRANSP:OPAQUE
END:VEVENT
END:VCALENDAR