BEGIN:VCALENDAR
VERSION:2.0
PRODID:-//jEvents 2.0 for Joomla//EN
CALSCALE:GREGORIAN
METHOD:PUBLISH
BEGIN:VEVENT
UID:0dc55bdd20aa11768d47f40a8e58a0ea
CATEGORIES:Academics
CREATED:20211120T121111
SUMMARY:Induction and Orientation
DESCRIPTION:
DTSTAMP:20260423T185920
DTSTART;TZID=Asia/Kolkata:20150723T033000
DTEND;TZID=Asia/Kolkata:20150725T113000
SEQUENCE:0
TRANSP:OPAQUE
END:VEVENT
END:VCALENDAR