BEGIN:VCALENDAR
VERSION:2.0
PRODID:-//jEvents 2.0 for Joomla//EN
CALSCALE:GREGORIAN
METHOD:PUBLISH
BEGIN:VEVENT
UID:2970835db41817860779919d6a2f4c7c
CATEGORIES:Academics
CREATED:20211120T121111
SUMMARY:Oath Taking Ceremony
DESCRIPTION:
DTSTAMP:20260423T190719
DTSTART;TZID=Asia/Kolkata:20150723T033000
DTEND;TZID=Asia/Kolkata:20150723T113000
SEQUENCE:0
TRANSP:OPAQUE
END:VEVENT
END:VCALENDAR