BEGIN:VCALENDAR
VERSION:2.0
PRODID:-//jEvents 2.0 for Joomla//EN
CALSCALE:GREGORIAN
METHOD:PUBLISH
BEGIN:VEVENT
UID:3102f0e521ff165afe9ad30f1d02b5f6
CATEGORIES:Conference / Symposium
CREATED:20211120T121111
SUMMARY:FLAME Case Conference
DESCRIPTION:\n\nThe FLAME Case Conference (FCC) has the following two objectives. First
 , is to act as a platform for case writers to improve their cases through t
 he constructive feedback received from the reviewers and the other conferen
 ce participants. Second, is to encourage the development of cases dealing w
 ith issues faced by Indian organizations.\n\n\nThe scope of the FLAME Case 
 Conference is broad and is not confined only to the functional areas of bus
 iness management. The Case Conference invites the submission of teaching ca
 ses written on any of the disciplines including the fields of business mana
 gement and social sciences. The conference includes guest lectures and a pa
 nel discussion by eminent speakers from repute organizations.\n\n\nClick he
 re for more details ... \n
X-ALT-DESC;FMTTYPE=text/html:<br/><br/>The FLAME Case Conference (FCC) has the following two objectives.
  First, is to act as a platform for case writers to improve their cases thr
 ough the constructive feedback received from the reviewers and the other co
 nference participants. Second, is to encourage the development of cases dea
 ling with issues faced by Indian organizations.<br/><br/><br/>The scope of 
 the FLAME Case Conference is broad and is not confined only to the function
 al areas of business management. The Case Conference invites the submission
  of teaching cases written on any of the disciplines including the fields o
 f business management and social sciences. The conference includes guest le
 ctures and a panel discussion by eminent speakers from repute organizations
 .<br/><br/><br/>Click here for more details ... <br/>
DTSTAMP:20260423T190336
DTSTART;TZID=Asia/Kolkata:20150710T023000
DTEND;TZID=Asia/Kolkata:20150711T113000
SEQUENCE:0
TRANSP:OPAQUE
END:VEVENT
END:VCALENDAR