BEGIN:VCALENDAR
VERSION:2.0
PRODID:-//jEvents 2.0 for Joomla//EN
CALSCALE:GREGORIAN
METHOD:PUBLISH
BEGIN:VEVENT
UID:a1fdc14c3e12da74aae87927b724e843
CATEGORIES:Seminars & Workshops
CREATED:20211120T121111
SUMMARY:FLAME Investment Lab - Behavioral Finance and Value Investing
DESCRIPTION:FLAME Investment Lab - Behavioral Finance and Value InvestingPARAG PARIKH M
 EMORIAL LECTURE SERIES\n\nFLAME was founded with the concept of liberal edu
 cation as its cornerstone. FLAME celebrates ideas, cherishes diversity, and
  strives to deliver an academic experience that fosters intellectual curios
 ity, a critical thought process, self-reflection, leadership and teamwork s
 kills, a sense of commitment and professionalism and a heightened sensitivi
 ty to one’s socio-cultural environment. FLAME aims to provide an interdisci
 plinary platform of education by propagating different models and paradigms
  through, but not limited to, history, philosophy, political sciences, psyc
 hology, business, economics, mathematics and finance.\n\n\nAs part of its e
 ndeavor to constantly redefine education, FLAME inducted the FLAME Investme
 nt Lab (FIL), an initiative that strives to deliver the concepts and deciph
 er the art of value investing to interested students. FIL believes in the d
 ictum “invest in yourself”. It provides tools for self-learning and acquiri
 ng knowledge, constantly striving for intellectual stimulation and asking q
 uestions. FIL strives to widen your horizons, aiding you to connect the dot
 s within seemingly disparate information. FIL truly believes that the best 
 investment is investing in yourself. As Socrates has said, “I cannot teach 
 anybody anything. I can only make them think.”\n\n\nAfter hosting multiple 
 programs and FIL alumni meets that covered topics like valuation, accountin
 g shenanigans, investment checklists, mental heuristics and negotiation amo
 ngst others, FIL is planning another program, ‘FLAME Investment Lab With Th
 e Masters – Behavioral Finance and Value Investing’.\n
X-ALT-DESC;FMTTYPE=text/html:FLAME Investment Lab - Behavioral Finance and Value InvestingPARAG PARIKH M
 EMORIAL LECTURE SERIES<br/><br/>FLAME was founded with the concept of liber
 al education as its cornerstone. FLAME celebrates ideas, cherishes diversit
 y, and strives to deliver an academic experience that fosters intellectual 
 curiosity, a critical thought process, self-reflection, leadership and team
 work skills, a sense of commitment and professionalism and a heightened sen
 sitivity to one’s socio-cultural environment. FLAME aims to provide an inte
 rdisciplinary platform of education by propagating different models and par
 adigms through, but not limited to, history, philosophy, political sciences
 , psychology, business, economics, mathematics and finance.<br/><br/><br/>A
 s part of its endeavor to constantly redefine education, FLAME inducted the
  FLAME Investment Lab (FIL), an initiative that strives to deliver the conc
 epts and decipher the art of value investing to interested students. FIL be
 lieves in the dictum “invest in yourself”. It provides tools for self-learn
 ing and acquiring knowledge, constantly striving for intellectual stimulati
 on and asking questions. FIL strives to widen your horizons, aiding you to 
 connect the dots within seemingly disparate information. FIL truly believes
  that the best investment is investing in yourself. As Socrates has said, “
 I cannot teach anybody anything. I can only make them think.”<br/><br/><br/
 >After hosting multiple programs and FIL alumni meets that covered topics l
 ike valuation, accounting shenanigans, investment checklists, mental heuris
 tics and negotiation amongst others, FIL is planning another program, ‘FLAM
 E Investment Lab With The Masters – Behavioral Finance and Value Investing’
 .<br/>
DTSTAMP:20260423T190244
DTSTART;TZID=Asia/Kolkata:20150620T043000
DTEND;TZID=Asia/Kolkata:20150621T123000
SEQUENCE:0
TRANSP:OPAQUE
END:VEVENT
END:VCALENDAR