BEGIN:VCALENDAR
VERSION:2.0
PRODID:-//jEvents 2.0 for Joomla//EN
CALSCALE:GREGORIAN
METHOD:PUBLISH
BEGIN:VEVENT
UID:f412e796a9a2ed253e6d4536fc95da11
CATEGORIES:Academics
CREATED:20211120T121111
SUMMARY: Convocation 2015
DESCRIPTION:\n\nChief Guest - Mr. Aditya Puri, Managing Director, HDFC Bank\n
X-ALT-DESC;FMTTYPE=text/html:<br/><br/>Chief Guest - Mr. Aditya Puri, Managing Director, HDFC Bank<br/>
DTSTAMP:20260423T190040
DTSTART;TZID=Asia/Kolkata:20150508T023000
DTEND;TZID=Asia/Kolkata:20150508T113000
SEQUENCE:0
TRANSP:OPAQUE
END:VEVENT
END:VCALENDAR