BEGIN:VCALENDAR
VERSION:2.0
PRODID:-//jEvents 2.0 for Joomla//EN
CALSCALE:GREGORIAN
METHOD:PUBLISH
BEGIN:VEVENT
UID:f402fa7485e463e69070e6ff7f5960aa
CATEGORIES:DEFAULT
CREATED:20211120T121110
SUMMARY:TEDxFLAMELive
DESCRIPTION:\n\nLast year, the I.D.E.A.S. Club successfully secured its' first TEDxLive
  license, the event being named TEDxFLAMELive. The conferences were extreme
 ly well received by all those who attended. Once again, the I.D.E.A.S. Club
  has obtained a TEDxFLAMELive license, allowing for the live broadcast of T
 ED sessions. However this year, there is an additional change: we are invit
 ing entire FLAME community to not only attend the simulcast of the conferen
 ce on campus, but select a few to speak as well! \n\n\nTo give a TED talk i
 s to put yourself on a platform like no other, it is to put your opinions a
 cross, to convey a message that creates an impact on the community. The pro
 spective speakers can choose any topic of their liking, be it technology or
  sports, a cultural study or a psychological perspective, the possibilities
  are endless.\n For all the students who are interested in giving the live 
 talk at TEDxFLAMELiveare requested to send in their ideas in the form of a 
 short write up (not exceeding 250 words). The entries would be screened by 
 a panel which would be further shortlisted. We would be thrilled to have fa
 culty to participate in the event as live speaker as well.  The event will 
 be held on 18/03/2015. Each speaker will be allotted not more than 18 minut
 es to present their topic. We request you to kindly send in your entries by
  6/02/2015 and write up by 12/02/2015. \n
X-ALT-DESC;FMTTYPE=text/html:<br/><br/>Last year, the I.D.E.A.S. Club successfully secured its' first TE
 DxLive license, the event being named TEDxFLAMELive. The conferences were e
 xtremely well received by all those who attended. Once again, the I.D.E.A.S
 . Club has obtained a TEDxFLAMELive license, allowing for the live broadcas
 t of TED sessions. However this year, there is an additional change: we are
  inviting entire FLAME community to not only attend the simulcast of the co
 nference on campus, but select a few to speak as well! <br/><br/><br/>To gi
 ve a TED talk is to put yourself on a platform like no other, it is to put 
 your opinions across, to convey a message that creates an impact on the com
 munity. The prospective speakers can choose any topic of their liking, be i
 t technology or sports, a cultural study or a psychological perspective, th
 e possibilities are endless.<br/> For all the students who are interested i
 n giving the live talk at TEDxFLAMELiveare requested to send in their ideas
  in the form of a short write up (not exceeding 250 words). The entries wou
 ld be screened by a panel which would be further shortlisted. We would be t
 hrilled to have faculty to participate in the event as live speaker as well
 .  The event will be held on 18/03/2015. Each speaker will be allotted not 
 more than 18 minutes to present their topic. We request you to kindly send 
 in your entries by 6/02/2015 and write up by 12/02/2015. <br/>
DTSTAMP:20260423T190336
DTSTART;TZID=Asia/Kolkata:20150318T023000
DTEND;TZID=Asia/Kolkata:20150318T113000
SEQUENCE:0
TRANSP:OPAQUE
END:VEVENT
END:VCALENDAR