BEGIN:VCALENDAR
VERSION:2.0
PRODID:-//jEvents 2.0 for Joomla//EN
CALSCALE:GREGORIAN
METHOD:PUBLISH
BEGIN:VEVENT
UID:4d8ee60574bfc5ecad56ce80a1da494f
CATEGORIES:Student Activities
CREATED:20211120T121110
SUMMARY:FLAME Fest
DESCRIPTION:
DTSTAMP:20260423T190525
DTSTART;TZID=Asia/Kolkata:20150317T023000
DTEND;TZID=Asia/Kolkata:20150322T113000
SEQUENCE:0
TRANSP:OPAQUE
END:VEVENT
END:VCALENDAR