BEGIN:VCALENDAR
VERSION:2.0
PRODID:-//jEvents 2.0 for Joomla//EN
CALSCALE:GREGORIAN
METHOD:PUBLISH
BEGIN:VEVENT
UID:e9c21be49d75511fe0d97799b9522849
CATEGORIES:DEFAULT
CREATED:20211120T121110
SUMMARY:FirstCut - All-India Student Films Festival
DESCRIPTION:\n\nFLAME will present FirstCut, the  all-India Festival of Student Films\n
X-ALT-DESC;FMTTYPE=text/html:<br/><br/>FLAME will present FirstCut, the  all-India Festival of Student F
 ilms<br/>
DTSTAMP:20260423T185752
DTSTART;TZID=Asia/Kolkata:20150313T023000
DTEND;TZID=Asia/Kolkata:20150314T113000
SEQUENCE:0
TRANSP:OPAQUE
END:VEVENT
END:VCALENDAR