BEGIN:VCALENDAR
VERSION:2.0
PRODID:-//jEvents 2.0 for Joomla//EN
CALSCALE:GREGORIAN
METHOD:PUBLISH
BEGIN:VEVENT
UID:4f6f5ec108af77e873aaba937a36dbeb
CATEGORIES:DEFAULT
CREATED:20211120T121110
SUMMARY:NOW - New Options of the World
DESCRIPTION:\n\nNOW - New Options of the World ..\n
X-ALT-DESC;FMTTYPE=text/html:<p><br /><br />NOW - New Options of the World ..</p>
DTSTAMP:20260423T190605
DTSTART;TZID=Asia/Kolkata:20150217T023000
DTEND;TZID=Asia/Kolkata:20150219T113000
SEQUENCE:0
TRANSP:OPAQUE
END:VEVENT
END:VCALENDAR